BEGIN:VCALENDAR
VERSION:2.0
PRODID:-//wp-events-plugin.com//7.2.3.1//EN
BEGIN:VEVENT
UID:2@angie-jugendreitkurse.de
DTSTART:20261106T190000Z
DTEND:20261106T213000Z
DTSTAMP:20260319T171251Z
URL:https://angie-jugendreitkurse.de/events/weiterbildung-pferdgestuetzte-
 interventionen-2026
SUMMARY:Weiterbildung "Resilienz für Mensch und Pferd" Pferdgestützte Int
 erventionen 2026
DESCRIPTION:Erst wieder im Frühjahr 2026 bieten wir die Weiterbildung Pfer
 dgestützte Interventionen für den Unterricht von Angie-Kursen und mehr a
 n. 
ATTACH;FMTTYPE=image/jpeg:https://angie-jugendreitkurse.de/wp-content/uplo
 ads/2025/03/lebeaulogo_no_title.png
CATEGORIES:Weiterbildungen für Erwachsene
END:VEVENT
END:VCALENDAR