BEGIN:VCALENDAR
VERSION:2.0
PRODID:-//wp-events-plugin.com//7.2.3.1//EN
BEGIN:VEVENT
UID:3@angie-jugendreitkurse.de
DTSTART:20250412T100000Z
DTEND:20250413T130000Z
DTSTAMP:20250401T141555Z
URL:https://angie-jugendreitkurse.de/events/mit-pferden-die-natur-erleben
SUMMARY:Mit Pferden die Natur erleben
DESCRIPTION:Wie kann die tiefe\, innere Verbundenheit zur Natur\, zu Tieren
  und zum Leben\,\nuns und den Kindern zugänglich gemacht werden?\nKursle
 itung: Luna van Well
ATTACH;FMTTYPE=image/jpeg:https://angie-jugendreitkurse.de/wp-content/uplo
 ads/2025/03/heimtierspirale1-1.jpg
CATEGORIES:Kurs für Kinder/Jugendliche
LOCATION:Schulbauernhof Rösrath\, Kammerbroich 67\, Wahner Heide\, Rösrat
 h\, NRW\, Deutschland
X-APPLE-STRUCTURED-LOCATION;VALUE=URI;X-ADDRESS=Kammerbroich 67\, Wahner He
 ide\, Rösrath\, NRW\, Deutschland;X-APPLE-RADIUS=100;X-TITLE=Schulbauernh
 of Rösrath:geo:0,0
END:VEVENT
END:VCALENDAR