BEGIN:VCALENDAR
VERSION:2.0
PRODID:-//wp-events-plugin.com//7.2.3.1//EN
BEGIN:VEVENT
UID:4@angie-jugendreitkurse.de
DTSTART:20250414T093000Z
DTEND:20250417T133000Z
DTSTAMP:20250401T141619Z
URL:https://angie-jugendreitkurse.de/events/ferienkurs-mit-kindern
SUMMARY:Ferienkurs mit Kindern
DESCRIPTION:Kursleitung: Violetta und Salome Berger
ATTACH;FMTTYPE=image/jpeg:https://angie-jugendreitkurse.de/wp-content/uplo
 ads/2025/03/Violetta_Berger.jpg
CATEGORIES:Kurs für Kinder/Jugendliche
LOCATION:Schwanenmühle\, Zur Schwanenmühle 1\, Langenfeld\, NRW\, 40764\,
  
X-APPLE-STRUCTURED-LOCATION;VALUE=URI;X-ADDRESS=Zur Schwanenmühle 1\, Lang
 enfeld\, NRW\, 40764\, ;X-APPLE-RADIUS=100;X-TITLE=Schwanenmühle:geo:0,0
END:VEVENT
END:VCALENDAR