BEGIN:VCALENDAR
VERSION:2.0
PRODID:-//wp-events-plugin.com//7.2.3.1//EN
BEGIN:VEVENT
UID:15@angie-jugendreitkurse.de
DTSTART:20260424T000000Z
DTEND:20260426T000000Z
DTSTAMP:20260319T164609Z
URL:https://angie-jugendreitkurse.de/events/connected-ridingr-jugendkurs
SUMMARY:Connected Riding(r) Jugendkurs
DESCRIPTION:mit Carlita Picard\n\nInfo und Anmeldung
CATEGORIES:Hospitations-Möglichkeit zur TGI Weiterbildung,Kurs für
 Kinder/Jugendliche
END:VEVENT
END:VCALENDAR