BEGIN:VCALENDAR
VERSION:2.0
PRODID:-//wp-events-plugin.com//7.2.3.1//EN
BEGIN:VEVENT
UID:10@angie-jugendreitkurse.de
DTSTART;VALUE=DATE:20250401
DTEND;VALUE=DATE:20251102
DTSTAMP:20250401T145746Z
URL:https://angie-jugendreitkurse.de/events/angie-kurse
SUMMARY:Angie-Kurse
DESCRIPTION:Relana Beck unterrichtet laufend Angie-Kurse\, die entsprechend
  der Nachfrage angeboten werden. Information: Relanamomo@yahoo.com\n\nmob
 il und Signal: +49 177 7581166\n\n&nbsp\;\n\n&nbsp\;
ATTACH;FMTTYPE=image/jpeg:https://angie-jugendreitkurse.de/wp-content/uplo
 ads/2025/03/heimtierspirale1-1.jpg
CATEGORIES:Hospitations-Möglichkeit zur TGI Weiterbildung,Kurs für
 Kinder/Jugendliche
LOCATION:Schulbauernhof Rösrath\, Kammerbroich 67\, Wahner Heide\, Rösrat
 h\, NRW\, Deutschland
X-APPLE-STRUCTURED-LOCATION;VALUE=URI;X-ADDRESS=Kammerbroich 67\, Wahner He
 ide\, Rösrath\, NRW\, Deutschland;X-APPLE-RADIUS=100;X-TITLE=Schulbauernh
 of Rösrath:geo:0,0
END:VEVENT
END:VCALENDAR