BEGIN:VCALENDAR
VERSION:2.0
PRODID:-//wp-events-plugin.com//7.2.3.1//EN
BEGIN:VEVENT
UID:8@angie-jugendreitkurse.de
DTSTART;VALUE=DATE:20250529
DTEND;VALUE=DATE:20250602
DTSTAMP:20250401T142021Z
URL:https://angie-jugendreitkurse.de/events/angie-kurse-kinder-und-jugend-
 reitkurs
SUMMARY:Angie-Kurse - Kinder  und Jugend-Reitkurs
DESCRIPTION:Kursleitung: Carlita Picard
ATTACH;FMTTYPE=image/jpeg:https://angie-jugendreitkurse.de/wp-content/uplo
 ads/2023/01/FotoLeonieHochrein.jpg
CATEGORIES:Kurs für Kinder/Jugendliche
LOCATION:Litla Hesthús\, Pascale Kern\, Poststrasse 10\, Bachs\, 8164\, Sc
 hweiz
X-APPLE-STRUCTURED-LOCATION;VALUE=URI;X-ADDRESS=Poststrasse 10\, Bachs\, 81
 64\, Schweiz;X-APPLE-RADIUS=100;X-TITLE=Litla Hesthús\, Pascale Kern:geo:
 0,0
END:VEVENT
END:VCALENDAR