BEGIN:VCALENDAR
VERSION:2.0
PRODID:-//wp-events-plugin.com//7.2.3.1//EN
BEGIN:VEVENT
UID:6@angie-jugendreitkurse.de
DTSTART:20250407T093000Z
DTEND:20250410T160000Z
DTSTAMP:20250401T145230Z
URL:https://angie-jugendreitkurse.de/events/angie-kurs
SUMMARY:Angie-Kurs
DESCRIPTION:Kursleitung: Carlita Picard
ATTACH;FMTTYPE=image/jpeg:https://angie-jugendreitkurse.de/wp-content/uplo
 ads/2020/10/IMG_7213-scaled.jpg
CATEGORIES:Kurs für Kinder/Jugendliche
END:VEVENT
END:VCALENDAR