BEGIN:VCALENDAR
VERSION:2.0
PRODID:-//wp-events-plugin.com//7.2.3.1//EN
BEGIN:VEVENT
UID:14@angie-jugendreitkurse.de
DTSTART:20260410T100000Z
DTEND:20260412T170000Z
DTSTAMP:20260319T163940Z
URL:https://angie-jugendreitkurse.de/events/angie-kurs-inklusiv
SUMMARY:Angie-Kurs inklusiv
DESCRIPTION:mit Relana Beck\n\nAnmeldung: relanamomo@yahoo.com\nt +49 177 7
 581166
CATEGORIES:Hospitations-Möglichkeit zur TGI Weiterbildung,Kurs für
 Kinder/Jugendliche
LOCATION:Hof Hommelshecke\, Zur Heide 19\, Mehren\, Rheinland-Pfalz\, 57635
 \, Westerwald-Sieg\, Deutschland
X-APPLE-STRUCTURED-LOCATION;VALUE=URI;X-ADDRESS=Zur Heide 19\, Mehren\, Rhe
 inland-Pfalz\, 57635\, Westerwald-Sieg\, Deutschland;X-APPLE-RADIUS=100;X-
 TITLE=Hof Hommelshecke:geo:0,0
END:VEVENT
END:VCALENDAR