BEGIN:VCALENDAR
VERSION:2.0
PRODID:-//wp-events-plugin.com//7.2.3.1//EN
BEGIN:VEVENT
UID:9@angie-jugendreitkurse.de
DTSTART:20250523T173000Z
DTEND:20250525T123000Z
DTSTAMP:20250401T145918Z
URL:https://angie-jugendreitkurse.de/events/angie-kurs-i
SUMMARY:ANGIE-Kurs I
DESCRIPTION:Dieser Termin in Luxemburg ist ein Kurs im Kurs. Im Rahmen der 
 Erwachsenen-Weiterbildung findet ein Angie-Kurs  für Kinder- und Jugendli
 che statt. \nErwachsene und Kinder können gemeinsam oder unabhängig vone
 inander teilnehmen. \nReferentin: Relana Beck - Dipl. Sportwissenschaftler
 in\; Dipl. Sozialpädagogin\; Tellington Practitioner III\; Connected Ridi
 ng Practitioner II\; EmTrace Emotionscoach I\; Vorsitzende des Animal Amba
 ssadors e.V.\; Ausbilderin von Angie-ReitlehrerInnen\; equimotion-Reitther
 apeutin
ATTACH;FMTTYPE=image/jpeg:https://angie-jugendreitkurse.de/wp-content/uplo
 ads/2025/04/230800_Angie_unt_Kids_nicht_frei_AKuk_LvWell-4.jpg
CATEGORIES:Kurs für Kinder/Jugendliche,Weiterbildungen für Erwachsene
LOCATION:mailto:info@iftil.lu
END:VEVENT
END:VCALENDAR