BEGIN:VCALENDAR
VERSION:2.0
PRODID:-//wp-events-plugin.com//7.2.3.1//EN
BEGIN:VEVENT
UID:5@angie-jugendreitkurse.de
DTSTART:20250610T100000Z
DTEND:20250614T170000Z
DTSTAMP:20250401T142044Z
URL:https://angie-jugendreitkurse.de/events/angie-kurs-fuer-kinder-und-jug
 endliche
SUMMARY:Angie Kurs für Kinder und Jugendliche
DESCRIPTION:Kursleitung: Skara Günther
ATTACH;FMTTYPE=image/jpeg:https://angie-jugendreitkurse.de/wp-content/uplo
 ads/2018/07/Debora-ttoucht-Iwen.jpg
CATEGORIES:Kurs für Kinder/Jugendliche
LOCATION:Keltika\, Keltika\, 93352 Rohr i. NB\, Deutschland
X-APPLE-STRUCTURED-LOCATION;VALUE=URI;X-ADDRESS=Keltika\, 93352 Rohr i. NB\
 , Deutschland;X-APPLE-RADIUS=100;X-TITLE=Keltika:geo:0,0
END:VEVENT
END:VCALENDAR