BEGIN:VCALENDAR
VERSION:2.0
PRODID:-//wp-events-plugin.com//7.2.3.1//EN
BEGIN:VEVENT
UID:7@angie-jugendreitkurse.de
DTSTART:20250707T093000Z
DTEND:20250711T160000Z
DTSTAMP:20250401T141939Z
URL:https://angie-jugendreitkurse.de/events/angie-kurs-fuer-einsteiger-und
 -aufsteiger
SUMMARY:Angie-Kurs für Einsteiger und Aufsteiger
DESCRIPTION:Kursleitung: Carlita Picard\;\nNur Curly Horses\, das heißt: d
 ieser Lehrgang ist für Pferdehaar-allergische Kinder/Jugendliche geeigne
 t!
ATTACH;FMTTYPE=image/jpeg:https://angie-jugendreitkurse.de/wp-content/uplo
 ads/2025/03/Trainerin-Reitlehrerin-Connected-Riding-Tellington-TTouch-Deut
 schland-Carlita-Picard-1-2015.jpg
CATEGORIES:Hospitations-Möglichkeit zur TGI Weiterbildung,Kurs für
 Kinder/Jugendliche
LOCATION:Gestüt Wolf\, an der Bergstraße Erlenhof\, Bickenbach\, 64404\, 
 Deutschland
X-APPLE-STRUCTURED-LOCATION;VALUE=URI;X-ADDRESS=an der Bergstraße Erlenhof
 \, Bickenbach\, 64404\, Deutschland;X-APPLE-RADIUS=100;X-TITLE=Gestüt Wol
 f:geo:0,0
END:VEVENT
END:VCALENDAR