BEGIN:VCALENDAR
VERSION:2.0
PRODID:-//wp-events-plugin.com//7.2.3.1//EN
BEGIN:VEVENT
UID:11@angie-jugendreitkurse.de
DTSTART:20260101T100000Z
DTEND:20260101T170000Z
DTSTAMP:20260319T155427Z
URL:https://angie-jugendreitkurse.de/events/angie-kinderkurs
SUMMARY:Angie-Kinderkurs
DESCRIPTION:Unterrichtende: Carlita Picard
CATEGORIES:Hospitations-Möglichkeit zur TGI Weiterbildung,Kurs für
 Kinder/Jugendliche
END:VEVENT
END:VCALENDAR