BEGIN:VCALENDAR
VERSION:2.0
PRODID:-//wp-events-plugin.com//7.2.3.1//EN
BEGIN:VEVENT
UID:19@angie-jugendreitkurse.de
DTSTART:20261005T100000Z
DTEND:20261008T170000Z
DTSTAMP:20260319T165952Z
URL:https://angie-jugendreitkurse.de/events/angie-kinderkurs-4
SUMMARY:Angie-Kinderkurs
DESCRIPTION:Kurs mit Carlita Picard\n\nInformation und Anmeldung:\nTelefon:
  +49 6257 998150\ncurlys@gestuet-wolf.de\n&nbsp\;
CATEGORIES:Hospitations-Möglichkeit zur TGI Weiterbildung,Kurs für
 Kinder/Jugendliche
LOCATION:Gestüt Wolf\, an der Bergstraße Erlenhof\, Bickenbach\, 64404\, 
 Deutschland
X-APPLE-STRUCTURED-LOCATION;VALUE=URI;X-ADDRESS=an der Bergstraße Erlenhof
 \, Bickenbach\, 64404\, Deutschland;X-APPLE-RADIUS=100;X-TITLE=Gestüt Wol
 f:geo:0,0
END:VEVENT
END:VCALENDAR