BEGIN:VCALENDAR
VERSION:2.0
PRODID:-//wp-events-plugin.com//7.2.3.1//EN
BEGIN:VEVENT
UID:17@angie-jugendreitkurse.de
DTSTART:20260707T000000Z
DTEND:20260710T000000Z
DTSTAMP:20260319T165350Z
URL:https://angie-jugendreitkurse.de/events/angie-kinderkurs-3
SUMMARY:Angie-Kinderkurs
DESCRIPTION:Kurs mit Carlita Picard\nInfo und Anmeldung 
CATEGORIES:Hospitations-Möglichkeit zur TGI Weiterbildung,Kurs für
 Kinder/Jugendliche
LOCATION:ZRTP Singer\, Hangen-Wahlheim 15\, Alsheim\, Rheinland-Pfalz\, 675
 77\, Rheinhessen\, Deutschland
X-APPLE-STRUCTURED-LOCATION;VALUE=URI;X-ADDRESS=Hangen-Wahlheim 15\, Alshei
 m\, Rheinland-Pfalz\, 67577\, Rheinhessen\, Deutschland;X-APPLE-RADIUS=100
 ;X-TITLE=ZRTP Singer:geo:0,0
END:VEVENT
END:VCALENDAR