BEGIN:VCALENDAR
VERSION:2.0
PRODID:-//wp-events-plugin.com//7.2.3.1//EN
BEGIN:VEVENT
UID:12@angie-jugendreitkurse.de
DTSTART:20260330T100000Z
DTEND:20260330T164500Z
DTSTAMP:20260319T160909Z
URL:https://angie-jugendreitkurse.de/events/angie-kinderkurs-2
SUMMARY:Angie-Kinderkurs
DESCRIPTION:Angie-Kinderkurs mit Carlita Picard.\nAnmeldung: Kerstin Djeri\
 nkerstin.d2@web.de\n+49 179 1333114 tel und What's App
LOCATION:Ponyfreunde Erlensee\, Pony und Pferdesportfreunde Erlensee e.V.\,
  Kirchstraße 3\, Erlensee\, Hessen\, 63526\, Main-Kinzig-Kreis\, Deutschl
 and
X-APPLE-STRUCTURED-LOCATION;VALUE=URI;X-ADDRESS=Pony und Pferdesportfreunde
  Erlensee e.V.\, Kirchstraße 3\, Erlensee\, Hessen\, 63526\, Main-Kinzig-
 Kreis\, Deutschland;X-APPLE-RADIUS=100;X-TITLE=Ponyfreunde Erlensee:geo:0,
 0
END:VEVENT
END:VCALENDAR