BEGIN:VCALENDAR
VERSION:2.0
PRODID:-//wp-events-plugin.com//7.2.3.1//EN
BEGIN:VEVENT
UID:21@angie-jugendreitkurse.de
DTSTART:20261012T000000Z
DTEND:20261012T000000Z
DTSTAMP:20260319T170457Z
URL:https://angie-jugendreitkurse.de/events/angie-herbstkurs
SUMMARY:Angie-Herbstkurs
DESCRIPTION:Kurs mit Valerie von Rohden\n\nKontakt:\nTelefon: 0176/64164150
  – E-Mail: valerie.vonrohden@gmail.com
CATEGORIES:Hospitations-Möglichkeit zur TGI Weiterbildung,Kurs für
 Kinder/Jugendliche
LOCATION:Haselhof\, Kirchweg 10 \, Rodenthal - Roda\, Hessen\, 35119\, Nord
 hessischen Landkreis Waldeck-Frankenberg\, Deutschland
X-APPLE-STRUCTURED-LOCATION;VALUE=URI;X-ADDRESS=Kirchweg 10 \, Rodenthal - 
 Roda\, Hessen\, 35119\, Nordhessischen Landkreis Waldeck-Frankenberg\, Deu
 tschland;X-APPLE-RADIUS=100;X-TITLE=Haselhof:geo:0,0
END:VEVENT
END:VCALENDAR