BEGIN:VCALENDAR
VERSION:2.0
PRODID:-//wp-events-plugin.com//7.2.3.1//EN
BEGIN:VEVENT
UID:13@angie-jugendreitkurse.de
DTSTART:20260407T100000Z
DTEND:20260410T170000Z
DTSTAMP:20260319T164712Z
URL:https://angie-jugendreitkurse.de/events/angie-fruehlingskurs
SUMMARY:Angie-Frühlingskurs
DESCRIPTION:Unterrichtende: Valerie von Rohden\n\nInformation und Anmeldung
 : https://haselhofroda.wordpress.com/kontakt/
CATEGORIES:Hospitations-Möglichkeit zur TGI Weiterbildung,Kurs für
 Kinder/Jugendliche
LOCATION:Haselhof\, Kirchweg 10 \, Rodenthal - Roda\, Hessen\, 35119\, Nord
 hessischen Landkreis Waldeck-Frankenberg\, Deutschland
X-APPLE-STRUCTURED-LOCATION;VALUE=URI;X-ADDRESS=Kirchweg 10 \, Rodenthal - 
 Roda\, Hessen\, 35119\, Nordhessischen Landkreis Waldeck-Frankenberg\, Deu
 tschland;X-APPLE-RADIUS=100;X-TITLE=Haselhof:geo:0,0
END:VEVENT
END:VCALENDAR