BEGIN:VCALENDAR
VERSION:2.0
PRODID:-//wp-events-plugin.com//7.2.3.1//EN
BEGIN:VEVENT
UID:16@angie-jugendreitkurse.de
DTSTART:20260501T100000Z
DTEND:20260503T170000Z
DTSTAMP:20260319T165108Z
URL:https://angie-jugendreitkurse.de/events/angie-fortgeschrittene
SUMMARY:Angie-Fortgeschrittene
DESCRIPTION:mit Relana Beck\n\nInfo&amp\;Anmeldung:\nRelana Beck 0049 177 7
 58 11 66\ninfo@wachsen-mit-tieren.de
CATEGORIES:Hospitations-Möglichkeit zur TGI Weiterbildung,Kurs für
 Kinder/Jugendliche
LOCATION:Hof Hommelshecke\, Zur Heide 19\, Mehren\, Rheinland-Pfalz\, 57635
 \, Westerwald-Sieg\, Deutschland
X-APPLE-STRUCTURED-LOCATION;VALUE=URI;X-ADDRESS=Zur Heide 19\, Mehren\, Rhe
 inland-Pfalz\, 57635\, Westerwald-Sieg\, Deutschland;X-APPLE-RADIUS=100;X-
 TITLE=Hof Hommelshecke:geo:0,0
END:VEVENT
END:VCALENDAR